BEGIN:VCALENDAR
VERSION:2.0
PRODID:-//wp-events-plugin.com//6.6.3//EN
BEGIN:VEVENT
UID:204@crea.org.ar
DTSTART:20260508T084500Z
DTEND:20260508T130000Z
DTSTAMP:20260417T194528Z
URL:https://crea.org.ar/events/jornada-de-maiz-en-zonas-marginales-region-
 semiarida-sar/
SUMMARY:Jornada de maíz en zonas marginales | Región Semiárida (SAR)
DESCRIPTION:\n\n
ATTACH;FMTTYPE=image/jpeg:https://crea.org.ar/wp-content/uploads/2025/04/1
 2793149953_b8a2020365_o-1-scaled.jpg
END:VEVENT
END:VCALENDAR