BEGIN:VCALENDAR
VERSION:2.0
PRODID:-//wp-events-plugin.com//6.6.3//EN
BEGIN:VEVENT
UID:200@crea.org.ar
DTSTART;VALUE=DATE:20260424
DTEND;VALUE=DATE:20260425
DTSTAMP:20260417T173752Z
URL:https://crea.org.ar/events/jat-de-fina-region-crea-mar-y-sierras/
SUMMARY:JAT de fina | Región CREA Mar y Sierras
DESCRIPTION:\nPara más información\, comunicate con Nora Mailland | Secre
 taria Regional: nmailland@crea.org.ar\n\n\n\n\n
ATTACH;FMTTYPE=image/jpeg:https://crea.org.ar/wp-content/uploads/2026/04/W
 hatsApp-Image-2024-08-22-at-08.57.45.jpeg
END:VEVENT
END:VCALENDAR