BEGIN:VCALENDAR
VERSION:2.0
PRODID:-//wp-events-plugin.com//6.6.3//EN
BEGIN:VEVENT
UID:108@crea.org.ar
DTSTART:20241108T083000Z
DTEND:20241108T130000Z
DTSTAMP:20241028T191003Z
URL:https://crea.org.ar/events/encuentro-regional-2024-region-este-est/
SUMMARY:Encuentro Regional 2024 | Región Este (EST)
DESCRIPTION:\nEvento exclusivo para Miembros CREA de la Región Este (EST)\
 n\n\n\nPor dudas o consultas\, comunicate con Pilar Laurel\, Coordinadora 
 Regional: plaurel@crea.org.ar\n
ATTACH;FMTTYPE=image/jpeg:https://crea.org.ar/wp-content/uploads/2024/10/e
 st.png
END:VEVENT
END:VCALENDAR