BEGIN:VCALENDAR
VERSION:2.0
PRODID:-//wp-events-plugin.com//6.6.3//EN
BEGIN:VEVENT
UID:205@crea.org.ar
DTSTART;VALUE=DATE:20260505
DTEND;VALUE=DATE:20260506
DTSTAMP:20260420T144510Z
URL:https://crea.org.ar/events/curso-indicadores-de-gestion-estados-contab
 les-y-ratios-financieros/
SUMMARY:Curso | Indicadores de gestión: Estados contables y ratios financi
 eros
DESCRIPTION:\n\n
ATTACH;FMTTYPE=image/jpeg:https://crea.org.ar/wp-content/uploads/2026/04/D
 iseno-sin-titulo.png
END:VEVENT
END:VCALENDAR